OziExplorer Map Data File Version 2.2
oka2_13.jpg
C:\Documents and Settings\Admin\Рабочий стол\google_map\oka2_13.jpg
1 ,Map Code,
WGS 84,,   0.0000,   0.0000,WGS 84
Reserved 1
Reserved 2
Magnetic Variation,,,E
Map Projection,Mercator,PolyCal,No,AutoCalOnly,No,BSBUseWPX,No
Point01,xy,    0, 0,in, deg, 55, 6.87082,N, 37, 48.07251,E, grid,   ,           ,           ,N
Point02,xy,   8191, 8496,in, deg, 54, 16.29840,N, 39, 12.42691,E, grid,   ,           ,           ,N
Point03,xy,   0, 8496,in, deg, 54, 16.29840,N, 37, 48.07251,E, grid,   ,           ,           ,N
Point04,xy,   8191, 0,in, deg, 55, 6.87082,N, 39, 12.42691,E, grid,   ,           ,           ,N
Point05,xy,   4095, 4248,in, deg, 54, 41.71593,N, 38, 30.23941,E, grid,   ,           ,           ,N
Point06,xy,   4095, 0,in, deg, 55, 6.87082,N, 38, 30.23941,E, grid,   ,           ,           ,N
Point07,xy,   0, 4248,in, deg, 54, 41.71593,N, 37, 48.07251,E, grid,   ,           ,           ,N
Point08,xy,   8191, 4248,in, deg, 54, 41.71593,N, 39, 12.42691,E, grid,   ,           ,           ,N
Point09,xy,   4095, 8496,in, deg, 54, 16.29840,N, 38, 30.23941,E, grid,   ,           ,           ,N
Point10,xy,     ,     ,in, deg,    ,        ,N,    ,        ,W, grid,   ,           ,           ,N
Point11,xy,     ,     ,in, deg,    ,        ,N,    ,        ,W, grid,   ,           ,           ,N
Point12,xy,     ,     ,in, deg,    ,        ,N,    ,        ,W, grid,   ,           ,           ,N
Point13,xy,     ,     ,in, deg,    ,        ,N,    ,        ,W, grid,   ,           ,           ,N
Point14,xy,     ,     ,in, deg,    ,        ,N,    ,        ,W, grid,   ,           ,           ,N
Point15,xy,     ,     ,in, deg,    ,        ,N,    ,        ,W, grid,   ,           ,           ,N
Point16,xy,     ,     ,in, deg,    ,        ,N,    ,        ,W, grid,   ,           ,           ,N
Point17,xy,     ,     ,in, deg,    ,        ,N,    ,        ,W, grid,   ,           ,           ,N
Point18,xy,     ,     ,in, deg,    ,        ,N,    ,        ,W, grid,   ,           ,           ,N
Point19,xy,     ,     ,in, deg,    ,        ,N,    ,        ,W, grid,   ,           ,           ,N
Point20,xy,     ,     ,in, deg,    ,        ,N,    ,        ,W, grid,   ,           ,           ,N
Point21,xy,     ,     ,in, deg,    ,        ,N,    ,        ,W, grid,   ,           ,           ,N
Point22,xy,     ,     ,in, deg,    ,        ,N,    ,        ,W, grid,   ,           ,           ,N
Point23,xy,     ,     ,in, deg,    ,        ,N,    ,        ,W, grid,   ,           ,           ,N
Point24,xy,     ,     ,in, deg,    ,        ,N,    ,        ,W, grid,   ,           ,           ,N
Point25,xy,     ,     ,in, deg,    ,        ,N,    ,        ,W, grid,   ,           ,           ,N
Point26,xy,     ,     ,in, deg,    ,        ,N,    ,        ,W, grid,   ,           ,           ,N
Point27,xy,     ,     ,in, deg,    ,        ,N,    ,        ,W, grid,   ,           ,           ,N
Point28,xy,     ,     ,in, deg,    ,        ,N,    ,        ,W, grid,   ,           ,           ,N
Point29,xy,     ,     ,in, deg,    ,        ,N,    ,        ,W, grid,   ,           ,           ,N
Point30,xy,     ,     ,in, deg,    ,        ,N,    ,        ,W, grid,   ,           ,           ,N
Projection Setup,,,,,,,,,,
Map Feature = MF ; Map Comment = MC     These follow if they exist
Track File = TF      These follow if they exist
Moving Map Parameters = MM?    These follow if they exist
MM0,Yes
MMPNUM,4
MMPXY,1,0,0
MMPXY,2,8191,0
MMPXY,3,8191,8496
MMPXY,4,0,8496
MMPLL,1, 37.801208, 55.114514
MMPLL,2, 39.207115, 55.114514
MMPLL,3, 39.207115, 54.271640
MMPLL,4, 37.801208, 54.271640
MM1B,11.066882
MOP,Map Open Position,0,0
IWH,Map Image Width/Height,8191,8496