OziExplorer Map Data File Version 2.2
Created by SAS.Planet
ya-15.jpg
1 ,Map Code,
WGS 84,, 0.0000, 0.0000,WGS 84
Reserved 1
Reserved 2
Magnetic Variation,,,E
Map Projection,Mercator,PolyCal,No,AutoCalOnly,No,BSBUseWPX,No
Point01,xy, 0, 0,in, deg, 42, 51.6631797402324,N, 44, 25.9595489501953,E, grid, , , ,N
Point02,xy, 1725, 2925,in, deg, 42, 40.5650345563542,N, 44, 34.8430252075195,E, grid, , , ,N
Point03,xy, 0, 2925,in, deg, 42, 40.5650345563542,N, 44, 25.9595489501953,E, grid, , , ,N
Point04,xy, 1725, 0,in, deg, 42, 51.6631797402324,N, 44, 34.8430252075195,E, grid, , , ,N
Point05,xy, 862, 1462,in, deg, 42, 46.116382635481,N, 44, 30.4038619995117,E, grid, , , ,N
Point06,xy, 862, 0,in, deg, 42, 51.6631797402324,N, 44, 30.4038619995117,E, grid, , , ,N
Point07,xy, 0, 1462,in, deg, 42, 46.116382635481,N, 44, 25.9595489501953,E, grid, , , ,N
Point08,xy, 1725, 1462,in, deg, 42, 46.116382635481,N, 44, 34.8430252075195,E, grid, , , ,N
Point09,xy, 862, 2925,in, deg, 42, 40.5650345563542,N, 44, 30.4038619995117,E, grid, , , ,N
Point10,xy, , ,in, deg, , ,N, , ,W, grid, , , ,N
Point11,xy, , ,in, deg, , ,N, , ,W, grid, , , ,N
Point12,xy, , ,in, deg, , ,N, , ,W, grid, , , ,N
Point13,xy, , ,in, deg, , ,N, , ,W, grid, , , ,N
Point14,xy, , ,in, deg, , ,N, , ,W, grid, , , ,N
Point15,xy, , ,in, deg, , ,N, , ,W, grid, , , ,N
Point16,xy, , ,in, deg, , ,N, , ,W, grid, , , ,N
Point17,xy, , ,in, deg, , ,N, , ,W, grid, , , ,N
Point18,xy, , ,in, deg, , ,N, , ,W, grid, , , ,N
Point19,xy, , ,in, deg, , ,N, , ,W, grid, , , ,N
Point20,xy, , ,in, deg, , ,N, , ,W, grid, , , ,N
Point21,xy, , ,in, deg, , ,N, , ,W, grid, , , ,N
Point22,xy, , ,in, deg, , ,N, , ,W, grid, , , ,N
Point23,xy, , ,in, deg, , ,N, , ,W, grid, , , ,N
Point24,xy, , ,in, deg, , ,N, , ,W, grid, , , ,N
Point25,xy, , ,in, deg, , ,N, , ,W, grid, , , ,N
Point26,xy, , ,in, deg, , ,N, , ,W, grid, , , ,N
Point27,xy, , ,in, deg, , ,N, , ,W, grid, , , ,N
Point28,xy, , ,in, deg, , ,N, , ,W, grid, , , ,N
Point29,xy, , ,in, deg, , ,N, , ,W, grid, , , ,N
Point30,xy, , ,in, deg, , ,N, , ,W, grid, , , ,N
Projection Setup,,,,,,,,,,
Map Feature = MF ; Map Comment = MC These follow if they exist
Track File = TF These follow if they exist
Moving Map Parameters = MM? These follow if they exist
MM0,Yes
MMPNUM,4
MMPXY,1,0,0
MMPXY,2,1725,0
MMPXY,3,1725,2925
MMPXY,4,0,2925
MMPLL,1, 44.4326591491699, 42.8610529956705
MMPLL,2, 44.580717086792, 42.8610529956705
MMPLL,3, 44.580717086792, 42.6760839092726
MMPLL,4, 44.4326591491699, 42.6760839092726
MM1B,7.01407225396065
MOP,Map Open Position,0,0
IWH,Map Image Width/Height,1725,2925
