OziExplorer Map Data File Version 2.2
gen-14-1.jpg
gen-14-1.jpg
1 ,Map Code,
WGS 84,, 0.0000, 0.0000,WGS 84
Reserved 1
Reserved 2
Magnetic Variation,,,E
Map Projection,Mercator,PolyCal,No,AutoCalOnly,No,BSBUseWPX,No
Point01,xy, 0, 0,in, deg, 61, 41.5828,N, 30, 7.9239,E, grid, , , ,N
Point02,xy, 1540, 0,in, deg, 61, 41.5828,N, 30, 23.7957,E, grid, , , ,N
Point03,xy, 3081, 0,in, deg, 61, 41.5828,N, 30, 39.6572,E, grid, , , ,N
Point04,xy, 0, 1532,in, deg, 61, 34.0804,N, 30, 7.9239,E, grid, , , ,N
Point05,xy, 1540, 1532,in, deg, 61, 34.0804,N, 30, 23.7957,E, grid, , , ,N
Point06,xy, 3081, 1532,in, deg, 61, 34.0804,N, 30, 39.6572,E, grid, , , ,N
Point07,xy, 0, 3065,in, deg, 61, 26.5526,N, 30, 7.9239,E, grid, , , ,N
Point08,xy, 1540, 3065,in, deg, 61, 26.5526,N, 30, 23.7957,E, grid, , , ,N
Point09,xy, 3081, 3065,in, deg, 61, 26.5526,N, 30, 39.6572,E, grid, , , ,N
Point10,xy, , ,in, deg, , ,N, , ,W, grid, , , ,N
Point11,xy, , ,in, deg, , ,N, , ,W, grid, , , ,N
Point12,xy, , ,in, deg, , ,N, , ,W, grid, , , ,N
Point13,xy, , ,in, deg, , ,N, , ,W, grid, , , ,N
Point14,xy, , ,in, deg, , ,N, , ,W, grid, , , ,N
Point15,xy, , ,in, deg, , ,N, , ,W, grid, , , ,N
Point16,xy, , ,in, deg, , ,N, , ,W, grid, , , ,N
Point17,xy, , ,in, deg, , ,N, , ,W, grid, , , ,N
Point18,xy, , ,in, deg, , ,N, , ,W, grid, , , ,N
Point19,xy, , ,in, deg, , ,N, , ,W, grid, , , ,N
Point20,xy, , ,in, deg, , ,N, , ,W, grid, , , ,N
Point21,xy, , ,in, deg, , ,N, , ,W, grid, , , ,N
Point22,xy, , ,in, deg, , ,N, , ,W, grid, , , ,N
Point23,xy, , ,in, deg, , ,N, , ,W, grid, , , ,N
Point24,xy, , ,in, deg, , ,N, , ,W, grid, , , ,N
Point25,xy, , ,in, deg, , ,N, , ,W, grid, , , ,N
Point26,xy, , ,in, deg, , ,N, , ,W, grid, , , ,N
Point27,xy, , ,in, deg, , ,N, , ,W, grid, , , ,N
Point28,xy, , ,in, deg, , ,N, , ,W, grid, , , ,N
Point29,xy, , ,in, deg, , ,N, , ,W, grid, , , ,N
Point30,xy, , ,in, deg, , ,N, , ,W, grid, , , ,N
Projection Setup,,,,,,,,,,
Map Feature = MF ; Map Comment = MC These follow if they exist
Track File = TF These follow if they exist
Moving Map Parameters = MM? These follow if they exist
MM0,Yes
MMPNUM,4
MMPXY,1,0,0
MMPXY,2,3081,0
MMPXY,3,3081,3065
MMPXY,4,0,3065
MMPLL,1, 30.132065, 61.693047
MMPLL,2, 30.660954, 61.693047
MMPLL,3, 30.660954, 61.442543
MMPLL,4, 30.132065, 61.442543
MM1B,9.098210
MOP,Map Open Position,0,0
IWH,Map Image Width/Height,3081,3065
